BEGIN:VCALENDAR
VERSION:2.0
PRODID:-//Mars - Mons arts de la scène - ECPv4.6.1//NONSGML v1.0//EN
CALSCALE:GREGORIAN
METHOD:PUBLISH
X-WR-CALNAME:Mars - Mons arts de la scène
X-ORIGINAL-URL:https://archive.surmars.be
X-WR-CALDESC:Events for Mars - Mons arts de la scène
BEGIN:VEVENT
DTSTART;TZID=Europe/Paris:20170208T200000
DTEND;TZID=Europe/Paris:20170208T200000
DTSTAMP:20260421T104430
CREATED:20161117T161344Z
LAST-MODIFIED:20170209T163957Z
UID:2662-1486584000-1486584000@archive.surmars.be
SUMMARY:Vincent Delerm
DESCRIPTION:Vincent Delerm présente son nouvel album.\nAprès l’album « Amants parallèles »\, parus en 2013\, Vincent Delerm est de retour avec À présent. Pour ce dernier opus\, le chanteur à la voix mélancolique s’est entouré\, entre autres\, de Benjamin Biolay\, de Camille\, ou encore de Jane Birkin afin d’évoquer Serge Gainsbourg et Marceline Loridan-Ivans\, rescapée du camp d’extermination d’Auschwitz-Birkenau. À l’aube de ses quarante ans\, le chanteur a souhaité réaliser un « bel » album\, en s’accompagnant d’un orchestre à cordes et de cuivres sur chaque morceau\, instaurant ainsi une ambiance « cinématographique » très imagée. \n
URL:https://archive.surmars.be/evenement/vincent-delerm/
LOCATION:Rue des Passages\, 1\, Mons\, 7000\, Belgique
GEO:50.4575235;3.9565614
X-APPLE-STRUCTURED-LOCATION;VALUE=URI;X-ADDRESS=Rue des Passages 1 Mons 7000 Belgique;X-APPLE-RADIUS=500;X-TITLE=Rue des Passages\, 1:geo:3.9565614,50.4575235
CATEGORIES:musique
ATTACH;FMTTYPE=image/jpeg:https://archive.surmars.be/wp-content/uploads/2016/11/Vincent-Delerme-©-DR.jpg
END:VEVENT
END:VCALENDAR