BEGIN:VCALENDAR
VERSION:2.0
PRODID:-//Mars - Mons arts de la scène - ECPv4.6.1//NONSGML v1.0//EN
CALSCALE:GREGORIAN
METHOD:PUBLISH
X-WR-CALNAME:Mars - Mons arts de la scène
X-ORIGINAL-URL:https://archive.surmars.be
X-WR-CALDESC:Events for Mars - Mons arts de la scène
BEGIN:VEVENT
DTSTART;TZID=Europe/Paris:20191127T200000
DTEND;TZID=Europe/Paris:20191127T200000
DTSTAMP:20260421T093304
CREATED:20190712T160015Z
LAST-MODIFIED:20190918T083811Z
UID:22980-1574884800-1574884800@archive.surmars.be
SUMMARY:Un fauteuil pour deux
DESCRIPTION:De Beethoven à Beintus: sonnez trompettes !\nChostakovitch et Jean-Pascal Beintus ont en commun d’avoir écrit deux rares pièces pour trompette\, piano et cordes\, la seconde ayant été créée en 2018 par l’ORCW. L’occasion vous est également offerte de réentendre – avec cette fois Muhiddin Dürrüoglu aux côtés de Frank Braley – le passionnant Concerto pour piano à quatre mains de Malcolm Arnold\, compositeur qui s’est dédié\, tout comme Jean-Pascal Beintus\, à l’écriture de musiques de films\, un autre point commun avec Chostakovitch. Et Beethoven toujours\, comme fil rouge de l’automne.\n \nFrank Braley\, piano et direction / Romain Leleu\, trompette / Muhiddin Dürrüoglu\, piano.\nPartenariat : Mars / ORCW \n\nProgramme :\nJean Pascal Beintus : Fantaisie concertante pour trompette piano et cordes\nLudwig van Beethoven : Quatuor à cordes n°11 en fa mineur op. 95\, Quartetto serioso (version pour orchestre de chambre)\nMalcolm Arnold : Concerto pour piano à 4 mains et orchestre op.32\nDmitri Chostakovitch : Concerto n° 1 pour piano\, trompette et orchestre à cordes en do mineur\, opus 35 \n\n\n\nMer 27.11 – 20h\n1h45 avec entracte\nArsonic\n\n\n25 / 22 / 18€\ngratuit – 25 ans\n1\,25€ (Art. 27)\nbonus curiosity : 1 point\n\n\n\n    Présence d’une boucle à induction\n \n \n  \n
URL:https://archive.surmars.be/evenement/un-fauteuil-pour-deux/
LOCATION:Rue de Nimy\, 138\, Mons\, 7000\, Belgique
GEO:50.4594464;3.9561403
X-APPLE-STRUCTURED-LOCATION;VALUE=URI;X-ADDRESS=Rue de Nimy 138 Mons 7000 Belgique;X-APPLE-RADIUS=500;X-TITLE=Rue de Nimy\, 138:geo:3.9561403,50.4594464
CATEGORIES:musique
ATTACH;FMTTYPE=image/jpeg:https://archive.surmars.be/wp-content/uploads/2019/07/Un-fauteuil-pour-deux.jpg
END:VEVENT
END:VCALENDAR