BEGIN:VCALENDAR
VERSION:2.0
PRODID:-//Mars - Mons arts de la scène - ECPv4.6.1//NONSGML v1.0//EN
CALSCALE:GREGORIAN
METHOD:PUBLISH
X-WR-CALNAME:Mars - Mons arts de la scène
X-ORIGINAL-URL:https://archive.surmars.be
X-WR-CALDESC:Events for Mars - Mons arts de la scène
BEGIN:VEVENT
DTSTART;TZID=Europe/Paris:20171212T200000
DTEND;TZID=Europe/Paris:20171212T200000
DTSTAMP:20260421T093304
CREATED:20161120T024035Z
LAST-MODIFIED:20171218T142637Z
UID:3750-1513108800-1513108800@archive.surmars.be
SUMMARY:Un tailleur pour dames
DESCRIPTION:Quand on aime le comique au théâtre\, il n’y a pas mieux que Feydeau ! Ça virevolte à un rythme d’enfer\, ça brouille\, ça court\, ça quiproquo\, ça cache\, ça se débat.\nPour Moulineaux\, récemment marié\, la vie semble si facile. Tout lui réussit. Jusqu’à ce Bal de l’Opéra !\nIl n’a pas dormi chez lui\, occupé toute la nuit à attendre son éventuelle future maîtresse. Au petit matin\, sa femme Yvonne attend des explications.\n \nPar chance\, Bassinet\, un ami\, vient lui demander un service. Et s’il devenait son alibi ?\nDe quiproquos en mensonges\, face à sa femme\, sa belle-mère\, le mari de sa maîtresse\, l’amante de celui-ci qui fut jadis la sienne\, Moulineaux est emporté dans un tourbillon d’événements qu’il essaie de maîtriser tant bien que mal !\n \nUne peinture acide d’une époque pas si éloignée de la nôtre… \n
URL:https://archive.surmars.be/evenement/tailleur-pour-dames/2017-12-12/
LOCATION:Rue des Passages\, 1\, Mons\, 7000\, Belgique
GEO:50.4575235;3.9565614
X-APPLE-STRUCTURED-LOCATION;VALUE=URI;X-ADDRESS=Rue des Passages 1 Mons 7000 Belgique;X-APPLE-RADIUS=500;X-TITLE=Rue des Passages\, 1:geo:3.9565614,50.4575235
CATEGORIES:théâtre
ATTACH;FMTTYPE=image/jpeg:https://archive.surmars.be/wp-content/uploads/2016/11/Les-Moulineaux-01-e1511955914539.jpg
END:VEVENT
END:VCALENDAR