BEGIN:VCALENDAR
VERSION:2.0
PRODID:-//Mars - Mons arts de la scène - ECPv4.6.1//NONSGML v1.0//EN
CALSCALE:GREGORIAN
METHOD:PUBLISH
X-WR-CALNAME:Mars - Mons arts de la scène
X-ORIGINAL-URL:https://archive.surmars.be
X-WR-CALDESC:Events for Mars - Mons arts de la scène
BEGIN:VEVENT
DTSTART;TZID=Europe/Paris:20170220T200000
DTEND;TZID=Europe/Paris:20170220T200000
DTSTAMP:20260421T181553
CREATED:20161117T184440Z
LAST-MODIFIED:20170221T094701Z
UID:2744-1487620800-1487620800@archive.surmars.be
SUMMARY:Les sonates boogie-woogie
DESCRIPTION:Et si Beethoven et Chopin s’étaient promenés dans les bars du Chicago des années 30 ?\nLe pianiste Renaud Patigny\, entouré de ses deux compères Pierre Alain Volondat (1er Prix du Concours International Reine Élisabeth « piano » en 1983) et Renaud Crols\, revisite les classiques et se livre à un exercice extrêmement complexe : fusionner la musique classique et le Boogie-Woogie.\n \nRenaud Patigny (piano)\, Pierre-Alain Volondat (piano)\, Renaud Crols (violon)\n \n  \nExpérience(s) Satellite(s)\n\nDans le cadre du spectacle\, retrouvez notre expérience satellite à vivre au Théâtre le Manège après la représentation : Ce soir on swingue !\n \nEn effet\, vous finirez la soirée en musique avec la boutique de vinyles Alive Records qui vous fera danser toute la nuit.\n  \n
URL:https://archive.surmars.be/evenement/sonates-boogie-woogie/
LOCATION:Rue de Nimy\, 138\, Mons\, 7000\, Belgique
GEO:50.4594464;3.9561403
X-APPLE-STRUCTURED-LOCATION;VALUE=URI;X-ADDRESS=Rue de Nimy 138 Mons 7000 Belgique;X-APPLE-RADIUS=500;X-TITLE=Rue de Nimy\, 138:geo:3.9561403,50.4594464
CATEGORIES:musique
ATTACH;FMTTYPE=image/jpeg:https://archive.surmars.be/wp-content/uploads/2016/11/Le-Trio-Renaud-Patigny-.jpg
END:VEVENT
END:VCALENDAR