BEGIN:VCALENDAR
VERSION:2.0
PRODID:-//Mars - Mons arts de la scène - ECPv4.6.1//NONSGML v1.0//EN
CALSCALE:GREGORIAN
METHOD:PUBLISH
X-WR-CALNAME:Mars - Mons arts de la scène
X-ORIGINAL-URL:https://archive.surmars.be
X-WR-CALDESC:Events for Mars - Mons arts de la scène
BEGIN:VEVENT
DTSTART;TZID=Europe/Paris:20170203T190000
DTEND;TZID=Europe/Paris:20170203T190000
DTSTAMP:20260421T094703
CREATED:20161117T161902Z
LAST-MODIFIED:20170116T155319Z
UID:2666-1486148400-1486148400@archive.surmars.be
SUMMARY:Soirée Plastic Skins
DESCRIPTION:Préparez-vous à bouger !\nA l’occasion de la présentation du spectacle La Dictadura de lo Cool\, Mars a confié l’organisation d’un before/after au collectif d’artistes Mons 2016\, qui ont alors décidé de mettre en avant la crème de la crème… de la crème des artistes locaux.\n \nAu programme :\n  \nInstallations et performances (visibles uniquement ce soir-là)\nNous avons lancé un défi à plusieurs artistes\, tatoueur\, Streets artiste\, et déjantés de la région. Avec Camille\, Busca\, Crazytrip Rider\, LH\, Noir Charbon\, Pascal Mayeur\, Philippe bouillon\, Trollux2Luxe et Warwin.\n  \nShowcase : Nasty Candy & Coco Lipstick.\n  \nDJ Battle : The Bat Brothers (Romain Batistini & Cola Bat) VS Kleenex & Clemix.\n \n \nRejoignez-nous dès 22h pour boire un verre et faire la fête\, ou mieux encore faites le combo !\n  \n
URL:https://archive.surmars.be/evenement/soiree-fete-organisee-collectif-artistique-mons2016/
LOCATION:Rue des Passages\, 1\, Mons\, 7000\, Belgique
GEO:50.4575235;3.9565614
X-APPLE-STRUCTURED-LOCATION;VALUE=URI;X-ADDRESS=Rue des Passages 1 Mons 7000 Belgique;X-APPLE-RADIUS=500;X-TITLE=Rue des Passages\, 1:geo:3.9565614,50.4575235
ATTACH;FMTTYPE=image/png:https://archive.surmars.be/wp-content/uploads/2016/11/Manège-Mons-©Marie-Noelle-Dailly-3-min.png
END:VEVENT
END:VCALENDAR