BEGIN:VCALENDAR
VERSION:2.0
PRODID:-//Mars - Mons arts de la scène - ECPv4.6.1//NONSGML v1.0//EN
CALSCALE:GREGORIAN
METHOD:PUBLISH
X-WR-CALNAME:Mars - Mons arts de la scène
X-ORIGINAL-URL:https://archive.surmars.be
X-WR-CALDESC:Events for Mars - Mons arts de la scène
BEGIN:VEVENT
DTSTART;TZID=Europe/Paris:20191106T200000
DTEND;TZID=Europe/Paris:20191106T200000
DTSTAMP:20260421T093323
CREATED:20190712T180043Z
LAST-MODIFIED:20191029T163024Z
UID:22797-1573070400-1573070400@archive.surmars.be
SUMMARY:Sabordage
DESCRIPTION:Évadez-vous…vers la fin du capitalisme.\nC’est l’histoire vraie d’une petite île perdue au milieu de l’océan\, qui va du miracle économique au désastre écologique… Le Collectif Mensuel nous raconte l’histoire de la planète bleue en version miniature et met en lumière les mécanismes qui poussent nos sociétés à se laisser aveugler par les mirages de la croissance et de la surconsommation. L’histoire d’un sabordage où les humains font l’impossible pour mettre à sac les ressources dont ils disposent ! Avec une obstination qui n’a d’égale que la bêtise et la mauvaise foi.\n \nÉcriture : Nicolas Ancion (Collectif Mensuel) / Conception et mise en scène : Collectif Mensuel / Avec : Sandrine Bergot\, Quentin Halloy\, Baptiste Isaia\, Philippe Lecrenier\, Renaud Riga.  \n\n \n\n\n\nMer 06.11 – 20h\nJeu 07.11 – 20h\nVen 08.11 – 13h30\nThéâtre le Manège\n\n\nTarif B : 15 / 12 / 9 / 5 / 5 / 3 €\nSpectacle dès 15 ans\nbonus curiosity : 3 points\n\n\n \n \n  \n
URL:https://archive.surmars.be/evenement/sabordage/2019-11-06/
LOCATION:Rue des Passages\, 1\, Mons\, 7000\, Belgique
GEO:50.4575235;3.9565614
X-APPLE-STRUCTURED-LOCATION;VALUE=URI;X-ADDRESS=Rue des Passages 1 Mons 7000 Belgique;X-APPLE-RADIUS=500;X-TITLE=Rue des Passages\, 1:geo:3.9565614,50.4575235
CATEGORIES:théâtre
ATTACH;FMTTYPE=image/jpeg:https://archive.surmars.be/wp-content/uploads/2019/07/Sabordage-©-DR-1-réduit.jpg
END:VEVENT
END:VCALENDAR