BEGIN:VCALENDAR
VERSION:2.0
PRODID:-//Mars - Mons arts de la scène - ECPv4.6.1//NONSGML v1.0//EN
CALSCALE:GREGORIAN
METHOD:PUBLISH
X-WR-CALNAME:Mars - Mons arts de la scène
X-ORIGINAL-URL:https://archive.surmars.be
X-WR-CALDESC:Events for Mars - Mons arts de la scène
BEGIN:VEVENT
DTSTART;TZID=Europe/Paris:20170223T200000
DTEND;TZID=Europe/Paris:20170223T200000
DTSTAMP:20260421T140610
CREATED:20161117T200818Z
LAST-MODIFIED:20170224T093827Z
UID:2756-1487880000-1487880000@archive.surmars.be
SUMMARY:Quatuor Modigliani
DESCRIPTION:Rencontre entre l’ORCW et le grand quatuor Modigliani\nPréparez-vous à vivre une expérience musicale inédite. Le quatuor ouvre le concert\, l’ORCW lui répond. En seconde partie\, ils fusionnent afin de jouer ensemble la version orchestrale du quatuor op. 95 de Beethoven. L’occasion pour le Quatuor Modigliani de se métamorphoser en orchestre\, et pour l’ORCW la chance de creuser l’alchimie du quatuor à cordes.\n \nOrchestre Royal de Chambre de Wallonie : Frank Braley (direction)\, Quatuor Modigliani : Philippe Bernhard (violon) – Loic Rio (violon) – Laurent Marfaing (alto) – François Kieffer (violoncelle)\n \nGratuit pour les – de 25 ans (Quota de 20 places)\n \n  \nProgramme\n\nWolfgang Amadeus Mozart : Quatuor n°21 en ré Majeur K. 575\nRobert Fuchs : Sérénade pour cordes\nLudwig van Beethoven : Quatuor op. 95 en (version orchestrale)\n  \n
URL:https://archive.surmars.be/evenement/rencontre/
LOCATION:Rue de Nimy\, 138\, Mons\, 7000\, Belgique
GEO:50.4594464;3.9561403
X-APPLE-STRUCTURED-LOCATION;VALUE=URI;X-ADDRESS=Rue de Nimy 138 Mons 7000 Belgique;X-APPLE-RADIUS=500;X-TITLE=Rue de Nimy\, 138:geo:3.9561403,50.4594464
ATTACH;FMTTYPE=image/jpeg:https://archive.surmars.be/wp-content/uploads/2016/11/QUATUOR-MODIGLIANI-by-Marie-Staggat-240bw.jpg
END:VEVENT
END:VCALENDAR