BEGIN:VCALENDAR
VERSION:2.0
PRODID:-//Mars - Mons arts de la scène - ECPv4.6.1//NONSGML v1.0//EN
CALSCALE:GREGORIAN
METHOD:PUBLISH
X-WR-CALNAME:Mars - Mons arts de la scène
X-ORIGINAL-URL:https://archive.surmars.be
X-WR-CALDESC:Events for Mars - Mons arts de la scène
BEGIN:VEVENT
DTSTART;TZID=Europe/Paris:20200517T160000
DTEND;TZID=Europe/Paris:20200517T160000
DTSTAMP:20260421T104517
CREATED:20190712T160004Z
LAST-MODIFIED:20200618T150350Z
UID:23367-1589731200-1589731200@archive.surmars.be
SUMMARY:PicNic
DESCRIPTION:Un spectacle musical\, théâtral et sensoriel pour les plus jeunes.\nDans une atmosphère de pique-nique au jardin\, les tasses cliquetiquent sous les cuillers\, le piano rejoint le rituel\, le Ukulélé s’invite en se faufilant entre les draps qui sèchent au soleil… Les sens en éveil\, le langage en perpétuelle découverte\, s’amusant de l’expérimentation tout en douceur\, nos tout-petits deviennent les participants d’un moment d’échange et de rêverie. La découverte de sons et des sensations leur offre des aller-retours entre des instants à soi et des plaisirs à partager.\n \nCréation et interprétation: Edith Van Malder\, Marie Havaux\, Adrian Diaz / En collaboration avec les jeunesses musicales de Mons-Borinage. \n\nCoin lecture\nEn collaboration avec le Réseau montois de lecture publique.\n \n  \nAtelier de 14h30 à 15h30\nAtelier de découverte musicale en collaboration avec les Jeunesses Musicales de Mons-Borinage.\nGratuit sur réservation à public@archive.surmars.be. \n\n \n\n\n\nDim 17.05 – 16h\nLun 18.05 – 10h et 13h30\nThéâtre Le Manège\n\n\nTarif B : 15 / 12 / 9 / 5 / 5 / 3€ (3€ jusque 12 ans)\nDe 3 à 5 ans\nbonus curiosity : 2 points\n\n\n \n \n  \n
URL:https://archive.surmars.be/evenement/picnic/2020-05-17/
LOCATION:Rue des Passages\, 1\, Mons\, 7000\, Belgique
GEO:50.4575235;3.9565614
X-APPLE-STRUCTURED-LOCATION;VALUE=URI;X-ADDRESS=Rue des Passages 1 Mons 7000 Belgique;X-APPLE-RADIUS=500;X-TITLE=Rue des Passages\, 1:geo:3.9565614,50.4575235
CATEGORIES:famille,musique
ATTACH;FMTTYPE=image/png:https://archive.surmars.be/wp-content/uploads/2019/07/PicNic-©-DR.png
END:VEVENT
END:VCALENDAR