BEGIN:VCALENDAR
VERSION:2.0
PRODID:-//Mars - Mons arts de la scène - ECPv4.6.1//NONSGML v1.0//EN
CALSCALE:GREGORIAN
METHOD:PUBLISH
X-WR-CALNAME:Mars - Mons arts de la scène
X-ORIGINAL-URL:https://archive.surmars.be
X-WR-CALDESC:Events for Mars - Mons arts de la scène
BEGIN:VEVENT
DTSTART;TZID=Europe/Paris:20191003T200000
DTEND;TZID=Europe/Paris:20191003T200000
DTSTAMP:20260421T093356
CREATED:20190712T180035Z
LAST-MODIFIED:20200901T132035Z
UID:22660-1570132800-1570132800@archive.surmars.be
SUMMARY:New Shamanic Music
DESCRIPTION:Une reconnexion avec nos racines sonores  les plus profondes.\nPartis de Sibérie\, la pensée et les usages chamaniques se sont répandus à travers les continents. La musique joue un rôle fondamental dans ces coutumes : elle est le médiateur entre le chamane et les esprits. Praticiens aguerris de ces instruments traditionnels et musiciens de Musiques Nouvelles se mêlent pour créer un rituel sonore inédit\, destiné à emmener le public en voyage\, au cœur de la vie la plus enfouie : forces de la nature\, esprits des animaux\, âmes des défunts\, par le pouvoir des sons et des rythmes.\n \nInterprètes-compositeurs : Laure Stehlin\, flûtes (classiques\, baroques\, chamaniques)\, voix / Patrik Niels\, instrumentarium chamanique\, voix / Charles Michiels\, clarinettes\, voix / Jarek Frankowski\, son / Jean-Paul Dessy\, violoncelle\, violoncelle à cordes sympathiques\, voix.\n \nDans le cadre du Festival Musical du Hainaut : Racines. \n\nEt aussi…\nEn préparation du concert\, le 26 septembre à 18h à Arsonic: Atelier Chercher sa voix par Charles Michiels.\n \nPartez à la (re)découverte de votre voix pour explorer de manière sensorielle et pratique ses différents mécanismes – respiration\, émission\, vibration\, résonance\, rapports souffle-voix.\n→  10€ sur réservation : public@archive.surmars.be\n→  Réservé au public de New Shamanic Music (nb. de places limitées) \n\n \n\n\n\nJeu 03.10 – 20h\nArsonic\n\n\nTarif B : 15 / 12 / 9 / 5 / 5 / 3€\nbonus curiosity : 3 points\n\n\n\n    Présence d’une boucle à induction\n \n \n  \n
URL:https://archive.surmars.be/evenement/new-shamanic-music/
LOCATION:Rue de Nimy\, 138\, Mons\, 7000\, Belgique
GEO:50.4594464;3.9561403
X-APPLE-STRUCTURED-LOCATION;VALUE=URI;X-ADDRESS=Rue de Nimy 138 Mons 7000 Belgique;X-APPLE-RADIUS=500;X-TITLE=Rue de Nimy\, 138:geo:3.9561403,50.4594464
CATEGORIES:musique,Musiques Nouvelles
ATTACH;FMTTYPE=image/jpeg:https://archive.surmars.be/wp-content/uploads/2019/07/New-Shamanic-Music-©-DR-réduit.jpg
END:VEVENT
END:VCALENDAR