BEGIN:VCALENDAR
VERSION:2.0
PRODID:-//Mars - Mons arts de la scène - ECPv4.6.1//NONSGML v1.0//EN
CALSCALE:GREGORIAN
METHOD:PUBLISH
X-WR-CALNAME:Mars - Mons arts de la scène
X-ORIGINAL-URL:https://archive.surmars.be
X-WR-CALDESC:Events for Mars - Mons arts de la scène
BEGIN:VEVENT
DTSTART;TZID=Europe/Paris:20170531T200000
DTEND;TZID=Europe/Paris:20170531T200000
DTSTAMP:20260421T092327
CREATED:20161119T163141Z
LAST-MODIFIED:20170603T141139Z
UID:3284-1496260800-1496260800@archive.surmars.be
SUMMARY:Métamorphoses
DESCRIPTION:Une création montoise signée Patrick Dheur.\nOeuvre commandée par l’ORCW à Patrick Dheur\, le « Concerto métamorphique » est écrit pour la très originale formation piano à 4 mains et orchestre. Clin d’œil à son illustre aîné Wolfgang ! Comme lui\, Patrick Dheur sera compositeur et interprète lors de ce concert\, qui s’ouvrira par une œuvre rare d’un autre grand pianiste compositeur\, Paderewski\, qui fut aussi Premier Ministre de sa Pologne natale ! Les pianistes ont bien des talents…\n \nOrchestre Royal de Chambre de Wallonie – Frank Braley (direction et piano) – Patrick Dheur (piano)\n \nGratuit pour les – de 25 ans (Quota de 20 places)\n \n  \nProgramme\n\nIgnacy Paderewski : Suite en sol pour orchestre à cordes\nWolfgang Amadeus Mozart : Concerto pour piano et orchestre K414\nWolfgang Amadeus Mozart : Sonate en fa majeur pour piano à 4 mains K497\nPatrick Dheur : Concerto métamorphique pour piano à 4 mains et orchestre à cordes \n
URL:https://archive.surmars.be/evenement/metamorphoses/
LOCATION:Rue de Nimy\, 138\, Mons\, 7000\, Belgique
GEO:50.4594464;3.9561403
X-APPLE-STRUCTURED-LOCATION;VALUE=URI;X-ADDRESS=Rue de Nimy 138 Mons 7000 Belgique;X-APPLE-RADIUS=500;X-TITLE=Rue de Nimy\, 138:geo:3.9561403,50.4594464
ATTACH;FMTTYPE=image/jpeg:https://archive.surmars.be/wp-content/uploads/2016/11/métamorphoses.jpg
END:VEVENT
END:VCALENDAR