BEGIN:VCALENDAR
VERSION:2.0
PRODID:-//Mars - Mons arts de la scène - ECPv4.6.1//NONSGML v1.0//EN
CALSCALE:GREGORIAN
METHOD:PUBLISH
X-WR-CALNAME:Mars - Mons arts de la scène
X-ORIGINAL-URL:https://archive.surmars.be
X-WR-CALDESC:Events for Mars - Mons arts de la scène
BEGIN:VEVENT
DTSTART;TZID=Europe/Paris:20170221T200000
DTEND;TZID=Europe/Paris:20170221T200000
DTSTAMP:20260421T165938
CREATED:20161117T195617Z
LAST-MODIFIED:20170222T135133Z
UID:2753-1487707200-1487707200@archive.surmars.be
SUMMARY:Lucha Libro
DESCRIPTION:Un match de catch littéraire !\nSix lutteurs\, journalistes\, slameurs\, chroniqueurs\, amoureux des mots\,… tous déguisés\, s’affrontent devant un public chauffé à blanc par un maître de cérémonie survolté. Ils ont 3 minutes pour écrire en direct un texte sur un thème imposé que le public peut visionner en temps réel sur un écran. À la fin de chaque match\, le public vote pour l’histoire qu’il aura préférée.\n \nLa Lucha Libro est un concept né au Pérou en 2002 grâce à l’auteur Christopher Vásquez qui voulait faire connaître de jeunes auteurs en utilisant la popularité locale des matchs de catch.\n \nPrésentateur : Yann Leriche.\nLutteurs :\n> Caroline DUNSKI – journaliste free-lance pour Le Soir\, Gaël\, Le Vif…\n> Sandra ZATLOUKAL Sandra – journaliste pour VLAN – Jeudi-Soir et est également auteure «Les aventures inhumaines»\, «Les petites histoires macabres de Mademoiselle Z.»…\n> Skan TRIKI Skan – journaliste pour Paris Match.be où il développe\, entre autres\, l’info en motion design et comédien de formation.\n> François VERMEERSCH – slameur au sein du collectif en.V.I.E.S et interprète de profession.\n> Isabelle BALDACCHINO – auteure\, animatrice d’ateliers d’écriture\, chroniqueuse radio\, comédienne et professeur de français.\n> Cindya Izzarelli – journaliste société\,Chroniqueuse sur la Première\, slameuse biberonnée à la Folie montoise\, chanteuse et musicienne. Fait aussi un très bon café.\n \nCo-réalisé par la Maison Losseau\, le Club de la Presse et Mars \n
URL:https://archive.surmars.be/evenement/lucha-libro/
LOCATION:Rue des Arbalestriers\, 8\, Mons\, 7000\, Belgique
GEO:50.4554256;3.9594351
X-APPLE-STRUCTURED-LOCATION;VALUE=URI;X-ADDRESS=Rue des Arbalestriers 8 Mons 7000 Belgique;X-APPLE-RADIUS=500;X-TITLE=Rue des Arbalestriers\, 8:geo:3.9594351,50.4554256
ATTACH;FMTTYPE=image/jpeg:https://archive.surmars.be/wp-content/uploads/2016/11/Luch-Libro_01-©-David-Bormans_1-web-2.jpg
END:VEVENT
END:VCALENDAR