BEGIN:VCALENDAR
VERSION:2.0
PRODID:-//Mars - Mons arts de la scène - ECPv4.6.1//NONSGML v1.0//EN
CALSCALE:GREGORIAN
METHOD:PUBLISH
X-WR-CALNAME:Mars - Mons arts de la scène
X-ORIGINAL-URL:https://archive.surmars.be
X-WR-CALDESC:Events for Mars - Mons arts de la scène
BEGIN:VEVENT
DTSTART;TZID=Europe/Paris:20210401T173000
DTEND;TZID=Europe/Paris:20210401T173000
DTSTAMP:20260421T093305
CREATED:20210315T210419Z
LAST-MODIFIED:20210331T100426Z
UID:39733-1617298200-1617298200@archive.surmars.be
SUMMARY:"Libre" - un documentaire de Michel Toesca
DESCRIPTION:Michel Toesca\, ami de longue date de Cédric Herrou et aussi habitant de la Roya\, a participé en témoin concerné\, caméra en main\, à cette résistance citoyenne. Ce film documentaire retrace l’histoire du combat de Cédric\, des bénévoles et des associations qui l’épaulent.\n \nMention Spéciale du Jury de L’Oeil d’Or – Cannes 2018\nFestival de Cannes 2018 : Sélection Officielle – Séance spéciale\n \nEn partenariat avec le Plaza Art.\n \nInfos pratiques :\n–  Cliquez-ici pour accéder à la salle de diffusion en ligne.\n–  Paiement uniquement par carte bancaire Visa\, American express…\n–  La séance se base donc sur la géolocalisation. Au delà d’un rayon de 50km autour de Mons vous ne pourrez pas accéder à la séance.\n–  Le film débute à l’heure indiquée\, comme lors d’une vraie séance ciné! Pour les retardataires\, il est possible de revenir 30 minutes en arrière.\n–  Pour acheter votre ticket\, vous devrez :\n      > Accepter que « La 25e Heure » accède à vos données de géolocalisation\n      > Créer un compte sur le site\n      > Vous munir d’une carte Visa \n\n \n\nNe manquez pas la rencontre avec Cedric Herrou de 20h !\nDans le cadre du festival\, Cedric Herrou viendra nous parler de son engagement citoyen et répondra à vos questions le temps d’une conférence en ligne animée par Sarah Frère\, journaliste spécialisée sur la question des migrations au magazine Imagine demain le monde. + d’infos par ici…  \n   \n\n     \nDans le cadre de l’Éco-festival Demain programmé du 24 mars au 3 avril à Mons.\n\n\nJeu 01.04\n17h30\n\n\nEn ligne\n5€\n\n \n \n  \n
URL:https://archive.surmars.be/evenement/libre-un-documentaire-de-michel-toesca/
ATTACH;FMTTYPE=image/jpeg:https://archive.surmars.be/wp-content/uploads/2021/03/LIBRE-pour-Jour-2-Fete-LAURENT-CARRE-0393.jpg
END:VEVENT
END:VCALENDAR