BEGIN:VCALENDAR
VERSION:2.0
PRODID:-//Mars - Mons arts de la scène - ECPv4.6.1//NONSGML v1.0//EN
CALSCALE:GREGORIAN
METHOD:PUBLISH
X-WR-CALNAME:Mars - Mons arts de la scène
X-ORIGINAL-URL:https://archive.surmars.be
X-WR-CALDESC:Events for Mars - Mons arts de la scène
BEGIN:VEVENT
DTSTART;TZID=Europe/Paris:20211009T193000
DTEND;TZID=Europe/Paris:20211009T200000
DTSTAMP:20260421T093356
CREATED:20210617T150041Z
LAST-MODIFIED:20210929T115256Z
UID:31405-1633807800-1633809600@archive.surmars.be
SUMMARY:Lamenta
DESCRIPTION:Pour leur dernière création\, les chorégraphes Koen Augustijnen et Rosalba Torres Guerrero racontent les états émotionnels du corps et leur traduction dans la danse quand survient le deuil. Après avoir exploré en Grèce\, les « miroloï »\, les chants des rituels de lamentation\, ces deux figures majeures de la danse rassemblent neuf danseurs·ses grec·ques pour nous faire découvrir l’énergie des traditions sous un regard contemporain.\n \nDe Siamese Cie / Koen Augustijnen et Rosalba Torres. \n\n\n \n\nDu 9 au 16.10 – Exposition photographique Flagrants Délits de Vie de Malik Choukrane. \n\n \n\n\n\nPremière belge !\nSam 09.10 – 19h30\nDim 10.10 – 16h\n\n\nThéâtre le Manège\n15 / 12 / 9€\nBonus Curiosity : 3 points\n\n\n\n    \n\n     \nDans le cadre de la Nuit de la danse\, organisée du 07 au 10 octobre à Mons à l’occasion de la Biennale d’art et de culture de la Fédération Wallonie-Bruxelles.\n\n\n    \nAccessibilité :\n     \n    \n    Accessible aux personnes à mobilité réduite\n    Présence d’une boucle à induction\n    Accessible aux personnes malentendantes\n    \n\n \n \n  \n
URL:https://archive.surmars.be/evenement/lamenta/2021-10-09/
LOCATION:Rue des Passages\, 1\, Mons\, 7000\, Belgique
GEO:50.4575235;3.9565614
X-APPLE-STRUCTURED-LOCATION;VALUE=URI;X-ADDRESS=Rue des Passages 1 Mons 7000 Belgique;X-APPLE-RADIUS=500;X-TITLE=Rue des Passages\, 1:geo:3.9565614,50.4575235
CATEGORIES:création,danse
ATTACH;FMTTYPE=image/jpeg:https://archive.surmars.be/wp-content/uploads/2021/07/Lamenta-Heloise-Faure-2021-9601.jpg
END:VEVENT
END:VCALENDAR