BEGIN:VCALENDAR
VERSION:2.0
PRODID:-//Mars - Mons arts de la scène - ECPv4.6.1//NONSGML v1.0//EN
CALSCALE:GREGORIAN
METHOD:PUBLISH
X-WR-CALNAME:Mars - Mons arts de la scène
X-ORIGINAL-URL:https://archive.surmars.be
X-WR-CALDESC:Events for Mars - Mons arts de la scène
BEGIN:VEVENT
DTSTART;TZID=Europe/Paris:20170215T200000
DTEND;TZID=Europe/Paris:20170215T200000
DTSTAMP:20260421T173705
CREATED:20161117T181150Z
LAST-MODIFIED:20170217T103946Z
UID:2710-1487188800-1487188800@archive.surmars.be
SUMMARY:J’habitais une petite maison sans grâce\, j’aimais le boudin
DESCRIPTION:Au coeur du théâtre de terroir…\nPlongez dans les souvenirs rudes\, drôles et chaleureux d’un petit garçon qui a grandi sous le ciel brumeux des usines sidérurgiques du bassin liégeois. Avec un humour simple\, Philippe Jeusette\, incarnant Jean-Marie Piemme lui-même\, raconte son parcours depuis sa naissance dans une cave jusqu’à la perte de ses parents alors qu’il achève ses études. Accompagné sur scène de Claire Bodson et Eric Ronsse\, il partage avec sensibilité cette réalité sociale et économique qui a marqué la région wallonne de la fin du siècle dernier.\n \nD’après Spoutnik de Jean-Marie Piemme. \n \n  \nExpérience(s) Satellite(s)\n\nDans le cadre du spectacle\, retrouvez nos 2 expériences satellites à vivre au Théâtre le Manège avant et après les représentations :\n \n> après le spectacle du mercredi 15 février\, vous pourrez rencontrer les artistes de la pièce lors d’un Bord de scène intimiste.\n \n> avant le spectacle du jeudi 16 février\, venez à la rencontre de Jean-Marie Piemme et Virginie Thirion à l’occasion d’une Causerie.\n  \n
URL:https://archive.surmars.be/evenement/jhabitais-petite-maison-grace-jaimais-boudin/2017-02-15/
LOCATION:Rue des Passages\, 1\, Mons\, 7000\, Belgique
GEO:50.4575235;3.9565614
X-APPLE-STRUCTURED-LOCATION;VALUE=URI;X-ADDRESS=Rue des Passages 1 Mons 7000 Belgique;X-APPLE-RADIUS=500;X-TITLE=Rue des Passages\, 1:geo:3.9565614,50.4575235
CATEGORIES:théâtre
ATTACH;FMTTYPE=image/jpeg:https://archive.surmars.be/wp-content/uploads/2016/11/Jhabitais2_AlicePiemme-banner-web.jpg
END:VEVENT
END:VCALENDAR