BEGIN:VCALENDAR
VERSION:2.0
PRODID:-//Mars - Mons arts de la scène - ECPv4.6.1//NONSGML v1.0//EN
CALSCALE:GREGORIAN
METHOD:PUBLISH
X-WR-CALNAME:Mars - Mons arts de la scène
X-ORIGINAL-URL:https://archive.surmars.be
X-WR-CALDESC:Events for Mars - Mons arts de la scène
BEGIN:VEVENT
DTSTART;TZID=Europe/Paris:20170212T160000
DTEND;TZID=Europe/Paris:20170212T170000
DTSTAMP:20260421T145408
CREATED:20161117T174458Z
LAST-MODIFIED:20170213T162952Z
UID:2689-1486915200-1486918800@archive.surmars.be
SUMMARY:Gretel et Hansel
DESCRIPTION:Dimanche en famille #2\nPar quel chemin tortueux devient-on une grande sœur ?\nL’arrivée de Hansel\, dans la vie de Gretel\, en a bouleversé l’équilibre. Ce petit frère dérange tout. Lorsque leurs parents les abandonnent en forêt et qu’ils finissent chez la sorcière\, la tentation est forte de le pousser dans le four avec leur geôlière et de s’en débarrasser à tout jamais… Par quel chemin tortueux devient-on une grande sœur ?\n \nLes deux protagonistes\, à la fois personnages et conteurs\, manipulent quinze chaises hautes en bois qui se transforment au gré de l’histoire. Elles évoquent les arbres de la forêt\, le bois pour le feu ou encore la cage dans laquelle Hansel est enfermé.\n \nCe spectacle est accessible au Jeune Public (de 6 à 10 ans).\n  \nAmusez-vous avec vos enfants avant et après le spectacle !\n\nDès 14h\, le réseau montois de lecture publique et Danielle Foster\, de Cook with Danielle\, vous convient à un atelier cuisine autour du pain d’épices\, ainsi qu’à des temps lecture et kamishibaï.\n  \n14h > 17h : coin lecture (en accès libre)\n14h15 et 15h : théâtre Kamishibaï (inscription sur place)\n14h30 > 15h30 : atelier cuisine 6/10 ans autour du Pain d’épice avec Cooking with Danielle. Réservation obligatoire –  cliquez-ici pour réserver votre ticket.\n16h : spectacle Gretel et Hansel\n  \n
URL:https://archive.surmars.be/evenement/gretel-et-hansel/
LOCATION:Rue des Passages\, 1\, Mons\, 7000\, Belgique
GEO:50.4575235;3.9565614
X-APPLE-STRUCTURED-LOCATION;VALUE=URI;X-ADDRESS=Rue des Passages 1 Mons 7000 Belgique;X-APPLE-RADIUS=500;X-TITLE=Rue des Passages\, 1:geo:3.9565614,50.4575235
CATEGORIES:théâtre
ATTACH;FMTTYPE=image/jpeg:https://archive.surmars.be/wp-content/uploads/2016/11/Gretel-et-Hansel-4-François-Xavier-Gaudreault.jpg
END:VEVENT
END:VCALENDAR