BEGIN:VCALENDAR
VERSION:2.0
PRODID:-//Mars - Mons arts de la scène - ECPv4.6.1//NONSGML v1.0//EN
CALSCALE:GREGORIAN
METHOD:PUBLISH
X-WR-CALNAME:Mars - Mons arts de la scène
X-ORIGINAL-URL:https://archive.surmars.be
X-WR-CALDESC:Events for Mars - Mons arts de la scène
BEGIN:VEVENT
DTSTART;TZID=Europe/Paris:20170218T200000
DTEND;TZID=Europe/Paris:20170218T200000
DTSTAMP:20260421T185929
CREATED:20161117T183045Z
LAST-MODIFIED:20170220T123258Z
UID:2730-1487448000-1487448000@archive.surmars.be
SUMMARY:Five easy pieces
DESCRIPTION:Milo Rau et l’affaire Dutroux.\nMilo Rau\, célèbre metteur en scène suisse\, est un habitué du théâtre politique. Ses spectacles s’appuient sur des témoignages et des reconstitutions d’événements réels\, brisant souvent les tabous contemporains. Il décide aujourd’hui de créer avec sept enfants de 8 à 13 ans un spectacle à partir de la biographie du criminel le plus tristement célèbre de Belgique : Marc Dutroux.\n \nFive Easy Pieces part à la recherche des limites de ce que savent\, ressentent et font les enfants. Et surtout ce que cela nous apprend sur nos propres peurs et aspirations.  L’expérience est troublante.\n \nSpectacle en néerlandais surtitré en français.\n \n  \nExpérience(s) Satellite(s)\n\nDans le cadre du spectacle\, retrouvez nos 2 expériences satellites à vivre au Théâtre le Manège avant et après la représentation :\n \n> avant le spectacle\, place au Thinker Corner\, lieu d’échange où des comédiens discutent avec vous de pensées d’intellectuels\, d’artistes\, de poètes pour échauffer vos méninges avant d’entrer en salle.\n \n> après le spectacle\, les plus gourmands pourront passer à table. En effet\, une table d’hôtes est organisée avec l’équipe du spectacle. L’occasion de rediscuter de la pièce autour d’une bonne assiette.\n  \n
URL:https://archive.surmars.be/evenement/five-easy-pieces/
LOCATION:Rue des Passages\, 1\, Mons\, 7000\, Belgique
GEO:50.4575235;3.9565614
X-APPLE-STRUCTURED-LOCATION;VALUE=URI;X-ADDRESS=Rue des Passages 1 Mons 7000 Belgique;X-APPLE-RADIUS=500;X-TITLE=Rue des Passages\, 1:geo:3.9565614,50.4575235
CATEGORIES:théâtre
ATTACH;FMTTYPE=image/jpeg:https://archive.surmars.be/wp-content/uploads/2016/11/FiveEasyPieces_promobeeld©PhileDeprez.jpg
END:VEVENT
END:VCALENDAR