BEGIN:VCALENDAR
VERSION:2.0
PRODID:-//Mars - Mons arts de la scène - ECPv4.6.1//NONSGML v1.0//EN
CALSCALE:GREGORIAN
METHOD:PUBLISH
X-WR-CALNAME:Mars - Mons arts de la scène
X-ORIGINAL-URL:https://archive.surmars.be
X-WR-CALDESC:Events for Mars - Mons arts de la scène
BEGIN:VEVENT
DTSTART;TZID=Europe/Paris:20191123T100000
DTEND;TZID=Europe/Paris:20191123T220000
DTSTAMP:20260421T093834
CREATED:20190712T180039Z
LAST-MODIFIED:20191119T124802Z
UID:22848-1574503200-1574546400@archive.surmars.be
SUMMARY:Festival Trajectoires 2019
DESCRIPTION:Une véritable piste de lancement pour la jeune création.\nPour sa 3e édition\, ce festival rafraîchissant présente les projets de jeunes auteurs\, compositeurs\, metteurs en scène et comédiens\, tous étudiants ou jeunes diplômés issus d’écoles d’arts de la Fédération Wallonie-Bruxelles. Véritable processus d’accompagnement créatif se basant sur l’idée du mouvement et de l’évolution\, cet espace de liberté permet aux artistes d’acquérir autonomie\, confiance et expérience. Chacun d’entre eux est accompagné d’un référent ainsi que d’un parrain professionnel et aguerri.  \n\n \n\n/// SAMEDI 23 NOVEMBRE ///\n \n11H : « Emile (ou Victor) » / THEATRE\n12H : « Nouvelles » / THEATRE ET MUSIQUE\n13H : Présentation de la Jampoetik et démonstration.\n13H30 : « Somnio ou l’enfant sous les planches » / THEATRE\n15H : Atelier d’écriture – Gratuit\, SUR INSCRIPTION\n16H : « Rustine » / THEATRE\n17H30 : Espace question et présentation de la journée du dimanche\n18H30 : « Nadine » / THEATRE\n20H : Concerts et soirée : Mano mio septet et Adrien Rigel\n \n \n/// DIMANCHE 24 NOVEMBRE ///\n \n10H30 : Petit déjeuner offert pour tout le monde !\n11H : Existe-t-il un chemin de la réussite au théâtre ? / CONFERENCE\n13H : « Retournée » / DANSE\n14H : « Nous ne cherchons que la gloire » / ECOUTE A L’AVEUGLE\n15H20 : «Ca m’a échappé! » / MUSIQUE ET DANSE\n16H : Scène ouverte en association avec Jampoetik\n17H : « Le bon lien » / THEATRE\n18H30 : « Jour de pluie » / THEATRE\n20H : Concert du groupe Groupe Leones \n\n\n\nSam 23.11 – de 10 à 22h\nDim 24.11 – de 10 à 22h\nThéâtre le Manège\n\n\n10€ la journée\n10€ le week-end pour les étudiants/demandeurs d’emploi\n1\,25€ pour les Article 27\nGratuit pour les -12 ans (Réservation obligatoire)\nPrix au spectacle : 4€\nRéservations : festivaltrajectoires@scenact.org\n+32(0)486 80 46 08\nHors tarif Visa/Marstercard\n\n\n \n \n  \n
URL:https://archive.surmars.be/evenement/festival-trajectoires-2/2019-11-23/
LOCATION:Rue des Passages\, 1\, Mons\, 7000\, Belgique
GEO:50.4575235;3.9565614
X-APPLE-STRUCTURED-LOCATION;VALUE=URI;X-ADDRESS=Rue des Passages 1 Mons 7000 Belgique;X-APPLE-RADIUS=500;X-TITLE=Rue des Passages\, 1:geo:3.9565614,50.4575235
CATEGORIES:festival
ATTACH;FMTTYPE=image/jpeg:https://archive.surmars.be/wp-content/uploads/2019/07/Festival-Trajectoires-réduit.jpg
END:VEVENT
END:VCALENDAR