BEGIN:VCALENDAR
VERSION:2.0
PRODID:-//Mars - Mons arts de la scène - ECPv4.6.1//NONSGML v1.0//EN
CALSCALE:GREGORIAN
METHOD:PUBLISH
X-WR-CALNAME:Mars - Mons arts de la scène
X-ORIGINAL-URL:https://archive.surmars.be
X-WR-CALDESC:Events for Mars - Mons arts de la scène
BEGIN:VEVENT
DTSTART;TZID=Europe/Paris:20170920T200000
DTEND;TZID=Europe/Paris:20171022T200000
DTSTAMP:20260421T093944
CREATED:20170710T143114Z
LAST-MODIFIED:20171009T074238Z
UID:10861-1505937600-1508702400@archive.surmars.be
SUMMARY:Festival Musical du Hainaut sur Mars
DESCRIPTION:A vos claviers !\nDu 20 septembre au 22 octobre\, le Festival Musical du Hainaut\, branche hennuyère des Festivals de Wallonie\, vous invite à découvrir toute une famille d’instruments : celle des claviers. \nRépertoires classiques (Brahms\, Mozart\, Tchaïkovski…)\, œuvres moins connues (Koechlin\, Szymanowski…)\, tour du monde de la jeune création contemporaine (MusMa\, Tactus\, Supernova)\, étoiles de la scène classique belge de demain\, tango sous toutes ses facettes\, anniversaire de Pierre Bartholomée\, fondateur de Musiques Nouvelles… \nLes claviéristes invités et leurs complices vous donnent rendez-vous à Arsonic pour 8 rendez-vous musicaux inédits ! \n> Téléchargez le programme complet du festival \n
URL:https://archive.surmars.be/evenement/festival-musical-hainaut-mars/
LOCATION:Rue de Nimy\, 138\, Mons\, 7000\, Belgique
GEO:50.4594464;3.9561403
X-APPLE-STRUCTURED-LOCATION;VALUE=URI;X-ADDRESS=Rue de Nimy 138 Mons 7000 Belgique;X-APPLE-RADIUS=500;X-TITLE=Rue de Nimy\, 138:geo:3.9561403,50.4594464
CATEGORIES:festival,musique
ATTACH;FMTTYPE=image/jpeg:https://archive.surmars.be/wp-content/uploads/2017/07/Festival-Musical-du-Hainaut-ARSONIC-grande-salle@Rino-Noviello-web.jpg
END:VEVENT
END:VCALENDAR