BEGIN:VCALENDAR
VERSION:2.0
PRODID:-//Mars - Mons arts de la scène - ECPv4.6.1//NONSGML v1.0//EN
CALSCALE:GREGORIAN
METHOD:PUBLISH
X-WR-CALNAME:Mars - Mons arts de la scène
X-ORIGINAL-URL:https://archive.surmars.be
X-WR-CALDESC:Events for Mars - Mons arts de la scène
BEGIN:VEVENT
DTSTART;TZID=Europe/Paris:20170203T200000
DTEND;TZID=Europe/Paris:20170203T200000
DTSTAMP:20260421T081650
CREATED:20161117T154539Z
LAST-MODIFIED:20170206T112854Z
UID:2635-1486152000-1486152000@archive.surmars.be
SUMMARY:La Dictadura de lo Cool
DESCRIPTION:Gouvernance\, copinage\, lutte des classes\, révolution… Un autre point de vue sur la politique culturelle chilienne et occidentale.\n \n“Sur un plateau clinquant de show télévisé\, une fine équipe de fêtards se déchaîne joyeusement avec force cocaïne et champagne. On attend le tout nouveau Ministre de la Culture\, l’un des leurs\, dont chacun espère un poste au gouvernement. Mais ce dernier les agonit d’injures et nomme à leur place des gens du peuple\, dans un retour à la lutte des classes et autres vieilles lunes oubliées des bobos.” Huffington Post\, juillet 2016.\n \nCaméra omniprésente\, esthétique bourrée d’énergie et ultra contemporaine\, la Re-Sendita  se rit de tout\, mais aussi d’elle-même\, sans aucune retenue\, insufflant un air frais\, puissant et bienfaiteur dans un milieu culturel gangréné par l’autosatisfaction perpétuelle\, le copinage et les contreparties.\n \nSpectacle en espagnol surtitré français – à partir de 16 ans \n \n  \nExpérience(s) Satellite(s)\n\nDans le cadre du spectacle\, retrouvez notre expérience satellite organisée au Théâtre le Manège avant et après la pièce.\n \nEn effet\, le collectif artistique Mons 2016 vous invite à une soirée avant et après spectacle.\n \nAu programme :\n \nInstallations et performances avec Camille\, Busca\, Crazytrip Rider\, LH\, Noir Charbon\, Pascal Mayeur\, Philippe bouillon\, Trollux2Luxe et Warwin.\n \nShowcase avec Nasty Candy & Coco Lipstick.\n \nDJ Battle avec The Bat Brothers (Romain Batistini & Cola Bat) VS Kleenex & Clemix.\n  \n
URL:https://archive.surmars.be/evenement/dictadura-de-lo-cool/
LOCATION:Rue des Passages\, 1\, Mons\, 7000\, Belgique
GEO:50.4575235;3.9565614
X-APPLE-STRUCTURED-LOCATION;VALUE=URI;X-ADDRESS=Rue des Passages 1 Mons 7000 Belgique;X-APPLE-RADIUS=500;X-TITLE=Rue des Passages\, 1:geo:3.9565614,50.4575235
CATEGORIES:théâtre
ATTACH;FMTTYPE=image/jpeg:https://archive.surmars.be/wp-content/uploads/2016/11/dictadura-de-lo-cool-web.jpg
END:VEVENT
END:VCALENDAR