BEGIN:VCALENDAR
VERSION:2.0
PRODID:-//Mars - Mons arts de la scène - ECPv4.6.1//NONSGML v1.0//EN
CALSCALE:GREGORIAN
METHOD:PUBLISH
X-WR-CALNAME:Mars - Mons arts de la scène
X-ORIGINAL-URL:https://archive.surmars.be
X-WR-CALDESC:Events for Mars - Mons arts de la scène
BEGIN:VEVENT
DTSTART;TZID=Europe/Paris:20170225T183000
DTEND;TZID=Europe/Paris:20170225T183000
DTSTAMP:20260421T111414
CREATED:20161117T203653Z
LAST-MODIFIED:20170227T115915Z
UID:2791-1488047400-1488047400@archive.surmars.be
SUMMARY:Débat sur les métiers de la musique
DESCRIPTION:Et si on faisait tomber les clichés sur les métiers de la musique?\nAutour de petits reportages que la SMart a produit en partenariat avec le réalisateur Joël Splingard de FLA TV et de Jacques de Pierpont aux interviews\, (re)lançons le débat sur les métiers de la musique. Une manière ludique de confronter la réalité des professionnels du métier et l’image que s’en fait le public.\n \nLa discussion sera animée par Pompon\, lui-même et la SMart qui accompagne beaucoup de professionnels du secteur. Le débat sera suivi d’un concert pour continuer les discussions dans un cadre plus informel !\n \nOrganisé par la SMart Mons.\n  \n
URL:https://archive.surmars.be/evenement/debat-metiers-de-musique/
LOCATION:Rue des Arbalestriers\, 8\, Mons\, 7000\, Belgique
GEO:50.4554256;3.9594351
X-APPLE-STRUCTURED-LOCATION;VALUE=URI;X-ADDRESS=Rue des Arbalestriers 8 Mons 7000 Belgique;X-APPLE-RADIUS=500;X-TITLE=Rue des Arbalestriers\, 8:geo:3.9594351,50.4554256
CATEGORIES:musique
ATTACH;FMTTYPE=image/jpeg:https://archive.surmars.be/wp-content/uploads/2016/11/visuel-debat-musique-WEB.jpg
END:VEVENT
END:VCALENDAR