BEGIN:VCALENDAR
VERSION:2.0
PRODID:-//Mars - Mons arts de la scène - ECPv4.6.1//NONSGML v1.0//EN
CALSCALE:GREGORIAN
METHOD:PUBLISH
X-WR-CALNAME:Mars - Mons arts de la scène
X-ORIGINAL-URL:https://archive.surmars.be
X-WR-CALDESC:Events for Mars - Mons arts de la scène
BEGIN:VEVENT
DTSTART;TZID=Europe/Paris:20170210T200000
DTEND;TZID=Europe/Paris:20170210T200000
DTSTAMP:20260421T120452
CREATED:20161117T162837Z
LAST-MODIFIED:20161123T155140Z
UID:2669-1486756800-1486756800@archive.surmars.be
SUMMARY:Christophe
DESCRIPTION:Christophe présente son nouvel album au Manège de Maubeuge : « Les vestiges du Chaos ».\nFort d’une carrière de plus de 50 ans\, Christophe a su marquer les générations avec des titres intemporels tels que Mots bleus ou encore Paradis Perdus.\nPour ce treizième album\, il s’entoure une fois de plus de grands noms de la musique française tels que Jean Michel Jarre\, Daniel Bélanger ou encore de l’auteure Laurie Darmon.\nCes collaborations éclectiques colorent finalement cet album de sonorités à la fois blues\, classiques et électro-rock. \n
URL:https://archive.surmars.be/evenement/christophe/
CATEGORIES:musique
ATTACH;FMTTYPE=image/jpeg:https://archive.surmars.be/wp-content/uploads/2016/11/Christophe-©-Lucie-Bevilacqua.jpg
END:VEVENT
END:VCALENDAR