BEGIN:VCALENDAR
VERSION:2.0
PRODID:-//Mars - Mons arts de la scène - ECPv4.6.1//NONSGML v1.0//EN
CALSCALE:GREGORIAN
METHOD:PUBLISH
X-WR-CALNAME:Mars - Mons arts de la scène
X-ORIGINAL-URL:https://archive.surmars.be
X-WR-CALDESC:Events for Mars - Mons arts de la scène
BEGIN:VEVENT
DTSTART;TZID=Europe/Paris:20170216T213000
DTEND;TZID=Europe/Paris:20170216T220000
DTSTAMP:20260421T185354
CREATED:20161117T181555Z
LAST-MODIFIED:20170216T094457Z
UID:2721-1487280600-1487282400@archive.surmars.be
SUMMARY:Causerie
DESCRIPTION:Boudin et pensées\nVenez à la rencontre de Jean-Marie Piemme\, auteur du roman autobiographique « Spoutnik »\, dont est tiré le spectacle\, et Virginie Thirion\, qui signe la mise en scène de celui-ci.\n \nIls partageront avec vous sur le processus d’écriture\, les allers/retours avec le plateau\, ce qu’apporte un metteur en scène…\n \nQuestionnés par le journaliste Eric Russon\, découvrez également comment en couple\, on s’isole ou au contraire on se soutient et on se renforce dans les processus artistiques.\n \nLa Boucherie ABC vous permettra également de déguster 4 boudins en provenance directe de sa boutique.\n \nEntrée libre sur réservation.\n \nphoto : Alice Piemme \n
URL:https://archive.surmars.be/evenement/causerie-boudins-et-pensees/
LOCATION:Rue des Passages\, 1\, Mons\, 7000\, Belgique
GEO:50.4575235;3.9565614
X-APPLE-STRUCTURED-LOCATION;VALUE=URI;X-ADDRESS=Rue des Passages 1 Mons 7000 Belgique;X-APPLE-RADIUS=500;X-TITLE=Rue des Passages\, 1:geo:3.9565614,50.4575235
ATTACH;FMTTYPE=image/jpeg:https://archive.surmars.be/wp-content/uploads/2016/11/94b087da83ceb5fe6f1a13150f8c0471-1457091530.jpg
END:VEVENT
END:VCALENDAR