BEGIN:VCALENDAR
VERSION:2.0
PRODID:-//Mars - Mons arts de la scène - ECPv4.6.1//NONSGML v1.0//EN
CALSCALE:GREGORIAN
METHOD:PUBLISH
X-WR-CALNAME:Mars - Mons arts de la scène
X-ORIGINAL-URL:https://archive.surmars.be
X-WR-CALDESC:Events for Mars - Mons arts de la scène
BEGIN:VEVENT
DTSTART;TZID=Europe/Brussels:20240703T130000
DTEND;TZID=Europe/Brussels:20240703T170000
DTSTAMP:20260422T171510
CREATED:20240515T100007Z
LAST-MODIFIED:20240619T082501Z
UID:48089-1720011600-1720026000@archive.surmars.be
SUMMARY:Après-midi au parc
DESCRIPTION:On profite du mercredi pour aller se promener dans de nouvelles contrées… Cette année\, direction le joli parc du Joncquoy à Ghlin pour une après-midi pleine de surprises. Au programme: des mini-formes pour plonger un court instant dans un univers farfelu (entresorts)\, des ateliers pour bricoler\, des spectacles pour ouvrir grands les yeux et même un bal !\n \nProgramme complet en ligne\n\n\n    \n \nDans le cadre du Festival au carré\, organisé du 28 juin au 7 juillet à Mons.\n\n\n\nMer 3.07\nDès 13h\n\n\nParc du Joncquoy (Ghlin)\nGratuit\n\n\n\n    \nAccessibilité :\n     \n    \n    Accessible aux personnes à mobilité réduite\n    \n\n  \n  \n
URL:https://archive.surmars.be/evenement/apres-midi-au-parc/
LOCATION:Mons\, Belgique
CATEGORIES:atelier,festival,incontournable,musique,performance,théâtre
ATTACH;FMTTYPE=image/jpeg:https://archive.surmars.be/wp-content/uploads/2024/05/P1012064-deux-tel.jpg
END:VEVENT
END:VCALENDAR